BEGIN:VCALENDAR
VERSION:2.0
PRODID:-//SV Nehren - ECPv6.15.17.1//NONSGML v1.0//EN
CALSCALE:GREGORIAN
METHOD:PUBLISH
X-ORIGINAL-URL:https://www.sv-nehren.de
X-WR-CALDESC:Veranstaltungen für SV Nehren
REFRESH-INTERVAL;VALUE=DURATION:PT1H
X-Robots-Tag:noindex
X-PUBLISHED-TTL:PT1H
BEGIN:VTIMEZONE
TZID:Europe/Berlin
BEGIN:DAYLIGHT
TZOFFSETFROM:+0100
TZOFFSETTO:+0200
TZNAME:CEST
DTSTART:20230326T010000
END:DAYLIGHT
BEGIN:STANDARD
TZOFFSETFROM:+0200
TZOFFSETTO:+0100
TZNAME:CET
DTSTART:20231029T010000
END:STANDARD
BEGIN:DAYLIGHT
TZOFFSETFROM:+0100
TZOFFSETTO:+0200
TZNAME:CEST
DTSTART:20240331T010000
END:DAYLIGHT
BEGIN:STANDARD
TZOFFSETFROM:+0200
TZOFFSETTO:+0100
TZNAME:CET
DTSTART:20241027T010000
END:STANDARD
BEGIN:DAYLIGHT
TZOFFSETFROM:+0100
TZOFFSETTO:+0200
TZNAME:CEST
DTSTART:20250330T010000
END:DAYLIGHT
BEGIN:STANDARD
TZOFFSETFROM:+0200
TZOFFSETTO:+0100
TZNAME:CET
DTSTART:20251026T010000
END:STANDARD
BEGIN:DAYLIGHT
TZOFFSETFROM:+0100
TZOFFSETTO:+0200
TZNAME:CEST
DTSTART:20260329T010000
END:DAYLIGHT
BEGIN:STANDARD
TZOFFSETFROM:+0200
TZOFFSETTO:+0100
TZNAME:CET
DTSTART:20261025T010000
END:STANDARD
BEGIN:DAYLIGHT
TZOFFSETFROM:+0100
TZOFFSETTO:+0200
TZNAME:CEST
DTSTART:20270328T010000
END:DAYLIGHT
BEGIN:STANDARD
TZOFFSETFROM:+0200
TZOFFSETTO:+0100
TZNAME:CET
DTSTART:20271031T010000
END:STANDARD
END:VTIMEZONE
BEGIN:VEVENT
DTSTART;TZID=Europe/Berlin:20260321T093000
DTEND;TZID=Europe/Berlin:20260321T110000
DTSTAMP:20260422T172828
CREATED:20260309T130405Z
LAST-MODIFIED:20260309T130405Z
UID:22945-1774085400-1774090800@www.sv-nehren.de
SUMMARY:Eltern-Kind Turnen
DESCRIPTION:
URL:https://www.sv-nehren.de/veranstaltung/eltern-kind-turnen-3/
LOCATION:Kirschenfeldschule Nehren\, Baden-Württemberg\, 72147\, Deutschland
CATEGORIES:Eltern-Kind-Turnen
END:VEVENT
BEGIN:VEVENT
DTSTART;TZID=Europe/Berlin:20251226T100000
DTEND;TZID=Europe/Berlin:20251226T113000
DTSTAMP:20260422T172828
CREATED:20250312T151133Z
LAST-MODIFIED:20250312T151133Z
UID:22023-1766743200-1766748600@www.sv-nehren.de
SUMMARY:Weihnachts-Kick
DESCRIPTION:
URL:https://www.sv-nehren.de/veranstaltung/weihnachts-kick/
LOCATION:Steinlach 3 72147 Nehren\, Steinlach 3 72147 Nehren\, Nehren\, 72147\, Deutschland
END:VEVENT
BEGIN:VEVENT
DTSTART;TZID=Europe/Berlin:20251212T173000
DTEND;TZID=Europe/Berlin:20251212T190000
DTSTAMP:20260422T172828
CREATED:20250312T150742Z
LAST-MODIFIED:20250312T150742Z
UID:22017-1765560600-1765566000@www.sv-nehren.de
SUMMARY:Kinder- und Jugendweihnachtsfeier
DESCRIPTION:
URL:https://www.sv-nehren.de/veranstaltung/kinder-und-jugendweihnachtsfeier/
LOCATION:Kirschenfeldschule Nehren\, Baden-Württemberg\, 72147\, Deutschland
END:VEVENT
BEGIN:VEVENT
DTSTART;TZID=Europe/Berlin:20251206T190000
DTEND;TZID=Europe/Berlin:20251206T233000
DTSTAMP:20260422T172828
CREATED:20250312T150643Z
LAST-MODIFIED:20250312T150643Z
UID:22015-1765047600-1765063800@www.sv-nehren.de
SUMMARY:Jahresabschlussfeier
DESCRIPTION:
URL:https://www.sv-nehren.de/veranstaltung/jahresabschlussfeier/
LOCATION:Steinlach 3 72147 Nehren\, Steinlach 3 72147 Nehren\, Nehren\, 72147\, Deutschland
END:VEVENT
BEGIN:VEVENT
DTSTART;VALUE=DATE:20251206
DTEND;VALUE=DATE:20251208
DTSTAMP:20260422T172828
CREATED:20250312T150954Z
LAST-MODIFIED:20250312T150954Z
UID:22021-1764979200-1765151999@www.sv-nehren.de
SUMMARY:WFV Sparkassen Junior-Cup
DESCRIPTION:
URL:https://www.sv-nehren.de/veranstaltung/wfv-sparkassen-junior-cup/
LOCATION:Baden-Württemberg
CATEGORIES:Jugend
END:VEVENT
BEGIN:VEVENT
DTSTART;TZID=Europe/Berlin:20250922T180000
DTEND;TZID=Europe/Berlin:20250922T190000
DTSTAMP:20260422T172828
CREATED:20250318T080140Z
LAST-MODIFIED:20250318T080638Z
UID:22062-1758564000-1758567600@www.sv-nehren.de
SUMMARY:Sportzeichen Abnahme
DESCRIPTION:In diesem Jahr bieten wir wieder in Kooperation mit dem Lauftreff Gomaringen für alle Interessierten die Abnahme des Sportabzeichens im Madach-Stadion Gomaringen an.  \nMitmachen können Kinder\, Jugendliche und Erwachsene\, unabhängig von der Mitgliedschaft beim jeweiligen Verein. \nNäheres und weitere Informationen unter  www.deutsches-sportabzeichen.de. \nDie Abnahmetermine des SV Nehren sind von Mai 2025 bis September 2025 jeden zweiten \nund vierten Montag von 18.00 bis 19:00 Uhr im Madach-Stadion: \n12. und 26.  Mai  \n 09. und 23. Juni   \n14. und 28. Juli   \n11. und 25.  August   \n08. und 22. September \nZum jeweiligen Termin bitte anmelden. \nDie Abnahme der Radfahrdisziplinen erfolgt am 16.09.2025\, 17:30 Uhr für die Kurzstrecke und 18:00 Uhr für die Langstrecke. Die Örtlichkeit befindet sich \nBei RT-Gönningen\, an der Schutzhütte „Plattach“\,  \nNäheres siehe www.lauftreff-gomaringen.de/Sportabzeichen \nAnsprechpartner:  SV Nehren e.V.        \nBerth Hofschulte  Tel. 07473-379.255  \n„Mach es\, Du schaffst es\, das Sportabzeichen“
URL:https://www.sv-nehren.de/veranstaltung/sportzeichen-abnahme/
LOCATION:Madach-Stadion Gomaringen\, Haydenstr.\, Gomaringen\, 72810\, Germany
CATEGORIES:Verein
END:VEVENT
BEGIN:VEVENT
DTSTART;TZID=Europe/Berlin:20250916T173000
DTEND;TZID=Europe/Berlin:20250916T180000
DTSTAMP:20260422T172828
CREATED:20250318T080511Z
LAST-MODIFIED:20250318T080602Z
UID:22064-1758043800-1758045600@www.sv-nehren.de
SUMMARY:Sportabzeichen Abnahme Fahrrad
DESCRIPTION:In diesem Jahr bieten wir wieder in Kooperation mit dem Lauftreff Gomaringen für alle Interessierten die Abnahme des Sportabzeichens im Madach-Stadion Gomaringen an.  \nMitmachen können Kinder\, Jugendliche und Erwachsene\, unabhängig von der Mitgliedschaft beim jeweiligen Verein. \nNäheres und weitere Informationen unter  www.deutsches-sportabzeichen.de. \nDie Abnahmetermine des SV Nehren sind von Mai 2025 bis September 2025 jeden zweiten \nund vierten Montag von 18.00 bis 19:00 Uhr im Madach-Stadion: \n12. und 26.  Mai  \n 09. und 23. Juni   \n14. und 28. Juli   \n11. und 25.  August   \n08. und 22. September \nZum jeweiligen Termin bitte anmelden. \nDie Abnahme der Radfahrdisziplinen erfolgt am 16.09.2025\, 17:30 Uhr für die Kurzstrecke und 18:00 Uhr für die Langstrecke. Die Örtlichkeit befindet sich \nBei RT-Gönningen\, an der Schutzhütte „Plattach“\,  \nNäheres siehe www.lauftreff-gomaringen.de/Sportabzeichen \nAnsprechpartner:  SV Nehren e.V.        \nBerth Hofschulte  Tel. 07473-379.255  \n„Mach es\, Du schaffst es\, das Sportabzeichen“
URL:https://www.sv-nehren.de/veranstaltung/sportabzeichen-abnahme-fahrrad/
LOCATION:Schutzhütte\, RT-Gönningen
CATEGORIES:Verein
END:VEVENT
BEGIN:VEVENT
DTSTART;TZID=Europe/Berlin:20250908T180000
DTEND;TZID=Europe/Berlin:20250908T190000
DTSTAMP:20260422T172828
CREATED:20250318T080035Z
LAST-MODIFIED:20250318T080035Z
UID:22060-1757354400-1757358000@www.sv-nehren.de
SUMMARY:Sportabzeichen Abnahme
DESCRIPTION:In diesem Jahr bieten wir wieder in Kooperation mit dem Lauftreff Gomaringen für alle Interessierten die Abnahme des Sportabzeichens im Madach-Stadion Gomaringen an.  \nMitmachen können Kinder\, Jugendliche und Erwachsene\, unabhängig von der Mitgliedschaft beim jeweiligen Verein. \nNäheres und weitere Informationen unter  www.deutsches-sportabzeichen.de. \nDie Abnahmetermine des SV Nehren sind von Mai 2025 bis September 2025 jeden zweiten \nund vierten Montag von 18.00 bis 19:00 Uhr im Madach-Stadion: \n12. und 26.  Mai  \n 09. und 23. Juni   \n14. und 28. Juli   \n11. und 25.  August   \n08. und 22. September \nZum jeweiligen Termin bitte anmelden. \nDie Abnahme der Radfahrdisziplinen erfolgt am 16.09.2025\, 17:30 Uhr für die Kurzstrecke und 18:00 Uhr für die Langstrecke. Die Örtlichkeit befindet sich \nBei RT-Gönningen\, an der Schutzhütte „Plattach“\,  \nNäheres siehe www.lauftreff-gonaringen.de/Sportabzeichen \nAnsprechpartner:  SV Nehren e.V.        \nBerth Hofschulte  Tel. 07473-379.255  \n„Mach es\, Du schaffst es\, das Sportabzeichen“
URL:https://www.sv-nehren.de/veranstaltung/sportabzeichen-abnahme-8/
LOCATION:Madach-Stadion Gomaringen\, Haydenstr.\, Gomaringen\, 72810\, Germany
CATEGORIES:Verein
END:VEVENT
BEGIN:VEVENT
DTSTART;TZID=Europe/Berlin:20250825T180000
DTEND;TZID=Europe/Berlin:20250825T190000
DTSTAMP:20260422T172828
CREATED:20250318T080808Z
LAST-MODIFIED:20250318T080808Z
UID:22070-1756144800-1756148400@www.sv-nehren.de
SUMMARY:Sportabzeichen Abnahme
DESCRIPTION:In diesem Jahr bieten wir wieder in Kooperation mit dem Lauftreff Gomaringen für alle Interessierten die Abnahme des Sportabzeichens im Madach-Stadion Gomaringen an.  \nMitmachen können Kinder\, Jugendliche und Erwachsene\, unabhängig von der Mitgliedschaft beim jeweiligen Verein. \nNäheres und weitere Informationen unter  www.deutsches-sportabzeichen.de. \nDie Abnahmetermine des SV Nehren sind von Mai 2025 bis September 2025 jeden zweiten \nund vierten Montag von 18.00 bis 19:00 Uhr im Madach-Stadion: \n12. und 26.  Mai  \n 09. und 23. Juni   \n14. und 28. Juli   \n11. und 25.  August   \n08. und 22. September \nZum jeweiligen Termin bitte anmelden. \nDie Abnahme der Radfahrdisziplinen erfolgt am 16.09.2025\, 17:30 Uhr für die Kurzstrecke und 18:00 Uhr für die Langstrecke. Die Örtlichkeit befindet sich \nBei RT-Gönningen\, an der Schutzhütte „Plattach“\,  \nNäheres siehe www.lauftreff-gomaringen.de/Sportabzeichen \nAnsprechpartner:  SV Nehren e.V.        \nBerth Hofschulte  Tel. 07473-379.255  \n„Mach es\, Du schaffst es\, das Sportabzeichen“
URL:https://www.sv-nehren.de/veranstaltung/sportabzeichen-abnahme-9/
LOCATION:Madach-Stadion Gomaringen\, Haydenstr.\, Gomaringen\, 72810\, Germany
CATEGORIES:Verein
END:VEVENT
BEGIN:VEVENT
DTSTART;TZID=Europe/Berlin:20250820T193000
DTEND;TZID=Europe/Berlin:20250820T211500
DTSTAMP:20260422T172828
CREATED:20250818T072756Z
LAST-MODIFIED:20250818T072756Z
UID:22528-1755718200-1755724500@www.sv-nehren.de
SUMMARY:WfV Pokal SV Nehren II gegen SV Walddorf
DESCRIPTION:Herren II ist im Pokal – Spiel eine Runde weitergekommen\, herzlichen Glückwunsch. \nDas Spiel findet am Mittwoch\, 20.08.2025 um 19:30 Uhr auf unserem Sportgelände gegen den SV Walddorf statt
URL:https://www.sv-nehren.de/veranstaltung/wfv-pokal-sv-nehren-ii-gegen-sv-walddorf/
LOCATION:Steinlach 3 72147 Nehren\, Steinlach 3 72147 Nehren\, Nehren\, 72147\, Deutschland
CATEGORIES:2. Mannschaft,Fußball
END:VEVENT
BEGIN:VEVENT
DTSTART;TZID=Europe/Berlin:20250811T180000
DTEND;TZID=Europe/Berlin:20250811T190000
DTSTAMP:20260422T172828
CREATED:20250318T075924Z
LAST-MODIFIED:20250318T075924Z
UID:22058-1754935200-1754938800@www.sv-nehren.de
SUMMARY:Sportabzeichen-Abnahme
DESCRIPTION:In diesem Jahr bieten wir wieder in Kooperation mit dem Lauftreff Gomaringen für alle Interessierten die Abnahme des Sportabzeichens im Madach-Stadion Gomaringen an.  \nMitmachen können Kinder\, Jugendliche und Erwachsene\, unabhängig von der Mitgliedschaft beim jeweiligen Verein. \nNäheres und weitere Informationen unter  www.deutsches-sportabzeichen.de. \nDie Abnahmetermine des SV Nehren sind von Mai 2025 bis September 2025 jeden zweiten \nund vierten Montag von 18.00 bis 19:00 Uhr im Madach-Stadion: \n12. und 26.  Mai  \n 09. und 23. Juni   \n14. und 28. Juli   \n11. und 25.  August   \n08. und 22. September \nZum jeweiligen Termin bitte anmelden. \nDie Abnahme der Radfahrdisziplinen erfolgt am 16.09.2025\, 17:30 Uhr für die Kurzstrecke und 18:00 Uhr für die Langstrecke. Die Örtlichkeit befindet sich \nBei RT-Gönningen\, an der Schutzhütte „Plattach“\,  \nNäheres siehe www.lauftreff-gonaringen.de/Sportabzeichen \nAnsprechpartner:  SV Nehren e.V.        \nBerth Hofschulte  Tel. 07473-379.255  \n„Mach es\, Du schaffst es\, das Sportabzeichen“
URL:https://www.sv-nehren.de/veranstaltung/sportabzeichen-abnahme-7/
LOCATION:Madach-Stadion Gomaringen\, Haydenstr.\, Gomaringen\, 72810\, Germany
CATEGORIES:Verein
END:VEVENT
BEGIN:VEVENT
DTSTART;VALUE=DATE:20250801
DTEND;VALUE=DATE:20250803
DTSTAMP:20260422T172828
CREATED:20250312T150537Z
LAST-MODIFIED:20250312T150537Z
UID:22013-1754006400-1754179199@www.sv-nehren.de
SUMMARY:Porsche Fußball- Feriencamp
DESCRIPTION:
URL:https://www.sv-nehren.de/veranstaltung/porsche-fussball-feriencamp/
LOCATION:Steinlach 3 72147 Nehren\, Steinlach 3 72147 Nehren\, Nehren\, 72147\, Deutschland
CATEGORIES:Jugend
END:VEVENT
BEGIN:VEVENT
DTSTART;TZID=Europe/Berlin:20250728T180000
DTEND;TZID=Europe/Berlin:20250728T190000
DTSTAMP:20260422T172828
CREATED:20250318T075817Z
LAST-MODIFIED:20250318T075817Z
UID:22056-1753725600-1753729200@www.sv-nehren.de
SUMMARY:Sportabzeichen Abnahme
DESCRIPTION:In diesem Jahr bieten wir wieder in Kooperation mit dem Lauftreff Gomaringen für alle Interessierten die Abnahme des Sportabzeichens im Madach-Stadion Gomaringen an.  \nMitmachen können Kinder\, Jugendliche und Erwachsene\, unabhängig von der Mitgliedschaft beim jeweiligen Verein. \nNäheres und weitere Informationen unter  www.deutsches-sportabzeichen.de. \nDie Abnahmetermine des SV Nehren sind von Mai 2025 bis September 2025 jeden zweiten \nund vierten Montag von 18.00 bis 19:00 Uhr im Madach-Stadion: \n12. und 26.  Mai  \n 09. und 23. Juni   \n14. und 28. Juli   \n11. und 25.  August   \n08. und 22. September \nZum jeweiligen Termin bitte anmelden. \nDie Abnahme der Radfahrdisziplinen erfolgt am 16.09.2025\, 17:30 Uhr für die Kurzstrecke und 18:00 Uhr für die Langstrecke. Die Örtlichkeit befindet sich \nBei RT-Gönningen\, an der Schutzhütte „Plattach“\,  \nNäheres siehe www.lauftreff-gonaringen.de/Sportabzeichen \nAnsprechpartner:  SV Nehren e.V.        \nBerth Hofschulte  Tel. 07473-379.255  \n„Mach es\, Du schaffst es\, das Sportabzeichen“
URL:https://www.sv-nehren.de/veranstaltung/sportabzeichen-abnahme-6/
LOCATION:Madach-Stadion Gomaringen\, Haydenstr.\, Gomaringen\, 72810\, Germany
CATEGORIES:Verein
END:VEVENT
BEGIN:VEVENT
DTSTART;TZID=Europe/Berlin:20250714T180000
DTEND;TZID=Europe/Berlin:20250714T190000
DTSTAMP:20260422T172828
CREATED:20250318T075721Z
LAST-MODIFIED:20250318T075721Z
UID:22054-1752516000-1752519600@www.sv-nehren.de
SUMMARY:Sportabzeichen Abnahme
DESCRIPTION:In diesem Jahr bieten wir wieder in Kooperation mit dem Lauftreff Gomaringen für alle Interessierten die Abnahme des Sportabzeichens im Madach-Stadion Gomaringen an.  \nMitmachen können Kinder\, Jugendliche und Erwachsene\, unabhängig von der Mitgliedschaft beim jeweiligen Verein. \nNäheres und weitere Informationen unter  www.deutsches-sportabzeichen.de. \nDie Abnahmetermine des SV Nehren sind von Mai 2025 bis September 2025 jeden zweiten \nund vierten Montag von 18.00 bis 19:00 Uhr im Madach-Stadion: \n12. und 26.  Mai  \n 09. und 23. Juni   \n14. und 28. Juli   \n11. und 25.  August   \n08. und 22. September \nZum jeweiligen Termin bitte anmelden. \nDie Abnahme der Radfahrdisziplinen erfolgt am 16.09.2025\, 17:30 Uhr für die Kurzstrecke und 18:00 Uhr für die Langstrecke. Die Örtlichkeit befindet sich \nBei RT-Gönningen\, an der Schutzhütte „Plattach“\,  \nNäheres siehe www.lauftreff-gonaringen.de/Sportabzeichen \nAnsprechpartner:  SV Nehren e.V.        \nBerth Hofschulte  Tel. 07473-379.255  \n„Mach es\, Du schaffst es\, das Sportabzeichen“
URL:https://www.sv-nehren.de/veranstaltung/sportabzeichen-abnahme-5/
LOCATION:Madach-Stadion Gomaringen\, Haydenstr.\, Gomaringen\, 72810\, Germany
CATEGORIES:Verein
END:VEVENT
BEGIN:VEVENT
DTSTART;TZID=Europe/Berlin:20250623T180000
DTEND;TZID=Europe/Berlin:20250623T190000
DTSTAMP:20260422T172828
CREATED:20250318T075621Z
LAST-MODIFIED:20250318T075621Z
UID:22052-1750701600-1750705200@www.sv-nehren.de
SUMMARY:Sportabzeichen-Abnahme
DESCRIPTION:In diesem Jahr bieten wir wieder in Kooperation mit dem Lauftreff Gomaringen für alle Interessierten die Abnahme des Sportabzeichens im Madach-Stadion Gomaringen an.  \nMitmachen können Kinder\, Jugendliche und Erwachsene\, unabhängig von der Mitgliedschaft beim jeweiligen Verein. \nNäheres und weitere Informationen unter  www.deutsches-sportabzeichen.de. \nDie Abnahmetermine des SV Nehren sind von Mai 2025 bis September 2025 jeden zweiten \nund vierten Montag von 18.00 bis 19:00 Uhr im Madach-Stadion: \n12. und 26.  Mai  \n 09. und 23. Juni   \n14. und 28. Juli   \n11. und 25.  August   \n08. und 22. September \nZum jeweiligen Termin bitte anmelden. \nDie Abnahme der Radfahrdisziplinen erfolgt am 16.09.2025\, 17:30 Uhr für die Kurzstrecke und 18:00 Uhr für die Langstrecke. Die Örtlichkeit befindet sich \nBei RT-Gönningen\, an der Schutzhütte „Plattach“\,  \nNäheres siehe www.lauftreff-gonaringen.de/Sportabzeichen \nAnsprechpartner:  SV Nehren e.V.        \nBerth Hofschulte  Tel. 07473-379.255  \n„Mach es\, Du schaffst es\, das Sportabzeichen“
URL:https://www.sv-nehren.de/veranstaltung/sportabzeichen-abnahme-4/
LOCATION:Madach-Stadion Gomaringen\, Haydenstr.\, Gomaringen\, 72810\, Germany
CATEGORIES:Verein
END:VEVENT
BEGIN:VEVENT
DTSTART;TZID=Europe/Berlin:20250609T180000
DTEND;TZID=Europe/Berlin:20250609T190000
DTSTAMP:20260422T172828
CREATED:20250318T075526Z
LAST-MODIFIED:20250318T075526Z
UID:22050-1749492000-1749495600@www.sv-nehren.de
SUMMARY:Sportabzeichen-Abnahme
DESCRIPTION:In diesem Jahr bieten wir wieder in Kooperation mit dem Lauftreff Gomaringen für alle Interessierten die Abnahme des Sportabzeichens im Madach-Stadion Gomaringen an.  \nMitmachen können Kinder\, Jugendliche und Erwachsene\, unabhängig von der Mitgliedschaft beim jeweiligen Verein. \nNäheres und weitere Informationen unter  www.deutsches-sportabzeichen.de. \nDie Abnahmetermine des SV Nehren sind von Mai 2025 bis September 2025 jeden zweiten \nund vierten Montag von 18.00 bis 19:00 Uhr im Madach-Stadion: \n12. und 26.  Mai  \n 09. und 23. Juni   \n14. und 28. Juli   \n11. und 25.  August   \n08. und 22. September \nZum jeweiligen Termin bitte anmelden. \nDie Abnahme der Radfahrdisziplinen erfolgt am 16.09.2025\, 17:30 Uhr für die Kurzstrecke und 18:00 Uhr für die Langstrecke. Die Örtlichkeit befindet sich \nBei RT-Gönningen\, an der Schutzhütte „Plattach“\,  \nNäheres siehe www.lauftreff-gonaringen.de/Sportabzeichen \nAnsprechpartner:  SV Nehren e.V.        \nBerth Hofschulte  Tel. 07473-379.255  \n„Mach es\, Du schaffst es\, das Sportabzeichen“
URL:https://www.sv-nehren.de/veranstaltung/sportabzeichen-abnahme-3/
LOCATION:Madach-Stadion Gomaringen\, Haydenstr.\, Gomaringen\, 72810\, Germany
CATEGORIES:Verein
END:VEVENT
BEGIN:VEVENT
DTSTART;TZID=Europe/Berlin:20250607T100000
DTEND;TZID=Europe/Berlin:20250607T110000
DTSTAMP:20260422T172828
CREATED:20250428T053642Z
LAST-MODIFIED:20250428T053642Z
UID:22233-1749290400-1749294000@www.sv-nehren.de
SUMMARY:Eltern-Kind-Turnen
DESCRIPTION:Liebe Turnfamilien\, \nhier kommen die neuen Termine bis zu den Pfingstferien. Die Terminfindung gestaltete sich dieses Mal etwas schwieriger. Wir haben folgende Samstage gefunden. Falls sich an diesen nochmal etwas ändern sollte\, gebe ich zeitnah Bescheid. \n  \nSamstag\, 24.5.2025 \nSamstag\, 7.6.2025 (noch unter Vorbehalt) \n  \nWie gewohnt\, treffen wir uns um 09:30 Uhr zum Aufbau. Wer es schafft\, kommt gerne dazu. Ansonsten dürft ihr aber auch erst um 10:00 Uhr kommen. Vielen Dank\, dass das so prima klappt! \n  \nWir freuen uns auf euch! \n  \nHerzliche Grüße und bis bald\, \nRainer und Anne
URL:https://www.sv-nehren.de/veranstaltung/eltern-kind-turnen-2/
LOCATION:Kirschenfeldschule Nehren\, Baden-Württemberg\, 72147\, Deutschland
CATEGORIES:Eltern-Kind-Turnen,Verein
END:VEVENT
BEGIN:VEVENT
DTSTART;TZID=Europe/Berlin:20250526T180000
DTEND;TZID=Europe/Berlin:20250526T190000
DTSTAMP:20260422T172828
CREATED:20250318T075410Z
LAST-MODIFIED:20250318T075410Z
UID:22048-1748282400-1748286000@www.sv-nehren.de
SUMMARY:Sportabzeichen Abnahme
DESCRIPTION:In diesem Jahr bieten wir wieder in Kooperation mit dem Lauftreff Gomaringen für alle Interessierten die Abnahme des Sportabzeichens im Madach-Stadion Gomaringen an.  \nMitmachen können Kinder\, Jugendliche und Erwachsene\, unabhängig von der Mitgliedschaft beim jeweiligen Verein. \nNäheres und weitere Informationen unter  www.deutsches-sportabzeichen.de. \nDie Abnahmetermine des SV Nehren sind von Mai 2025 bis September 2025 jeden zweiten \nund vierten Montag von 18.00 bis 19:00 Uhr im Madach-Stadion: \n12. und 26.  Mai  \n 09. und 23. Juni   \n14. und 28. Juli   \n11. und 25.  August   \n08. und 22. September \nZum jeweiligen Termin bitte anmelden. \nDie Abnahme der Radfahrdisziplinen erfolgt am 16.09.2025\, 17:30 Uhr für die Kurzstrecke und 18:00 Uhr für die Langstrecke. Die Örtlichkeit befindet sich \nBei RT-Gönningen\, an der Schutzhütte „Plattach“\,  \nNäheres siehe www.lauftreff-gonaringen.de/Sportabzeichen \nAnsprechpartner:  SV Nehren e.V.        \nBerth Hofschulte  Tel. 07473-379.255  \n„Mach es\, Du schaffst es\, das Sportabzeichen“
URL:https://www.sv-nehren.de/veranstaltung/sportabzeichen-abnahme-2/
LOCATION:Madach-Stadion Gomaringen\, Haydenstr.\, Gomaringen\, 72810\, Germany
CATEGORIES:Verein
END:VEVENT
BEGIN:VEVENT
DTSTART;TZID=Europe/Berlin:20250524T100000
DTEND;TZID=Europe/Berlin:20250524T110000
DTSTAMP:20260422T172828
CREATED:20250428T053550Z
LAST-MODIFIED:20250428T053550Z
UID:22231-1748080800-1748084400@www.sv-nehren.de
SUMMARY:Eltern-Kind-Turnen
DESCRIPTION:Liebe Turnfamilien\, \nhier kommen die neuen Termine bis zu den Pfingstferien. Die Terminfindung gestaltete sich dieses Mal etwas schwieriger. Wir haben folgende Samstage gefunden. Falls sich an diesen nochmal etwas ändern sollte\, gebe ich zeitnah Bescheid. \n  \nSamstag\, 24.5.2025 \nSamstag\, 7.6.2025 (noch unter Vorbehalt) \n  \nWie gewohnt\, treffen wir uns um 09:30 Uhr zum Aufbau. Wer es schafft\, kommt gerne dazu. Ansonsten dürft ihr aber auch erst um 10:00 Uhr kommen. Vielen Dank\, dass das so prima klappt! \n  \nWir freuen uns auf euch! \n  \nHerzliche Grüße und bis bald\, \nRainer und Anne
URL:https://www.sv-nehren.de/veranstaltung/eltern-kind-turnen/
LOCATION:Kirschenfeldschule Nehren\, Baden-Württemberg\, 72147\, Deutschland
CATEGORIES:Eltern-Kind-Turnen,Verein
END:VEVENT
BEGIN:VEVENT
DTSTART;TZID=Europe/Berlin:20250512T180000
DTEND;TZID=Europe/Berlin:20250512T190000
DTSTAMP:20260422T172828
CREATED:20250318T075252Z
LAST-MODIFIED:20250318T075252Z
UID:22045-1747072800-1747076400@www.sv-nehren.de
SUMMARY:Sportabzeichen Abnahme
DESCRIPTION:In diesem Jahr bieten wir wieder in Kooperation mit dem Lauftreff Gomaringen für alle Interessierten die Abnahme des Sportabzeichens im Madach-Stadion Gomaringen an.  \nMitmachen können Kinder\, Jugendliche und Erwachsene\, unabhängig von der Mitgliedschaft beim jeweiligen Verein. \nNäheres und weitere Informationen unter  www.deutsches-sportabzeichen.de. \nDie Abnahmetermine des SV Nehren sind von Mai 2025 bis September 2025 jeden zweiten \nund vierten Montag von 18.00 bis 19:00 Uhr im Madach-Stadion: \n12. und 26.  Mai  \n 09. und 23. Juni   \n14. und 28. Juli   \n11. und 25.  August   \n08. und 22. September \nZum jeweiligen Termin bitte anmelden. \nDie Abnahme der Radfahrdisziplinen erfolgt am 16.09.2025\, 17:30 Uhr für die Kurzstrecke und 18:00 Uhr für die Langstrecke. Die Örtlichkeit befindet sich \nBei RT-Gönningen\, an der Schutzhütte „Plattach“\,  \nNäheres siehe www.lauftreff-gonaringen.de/Sportabzeichen \nAnsprechpartner:  SV Nehren e.V.        \nBerth Hofschulte  Tel. 07473-379.255  \n„Mach es\, Du schaffst es\, das Sportabzeichen“
URL:https://www.sv-nehren.de/veranstaltung/sportabzeichen-abnahme/
LOCATION:Madach-Stadion Gomaringen\, Haydenstr.\, Gomaringen\, 72810\, Germany
END:VEVENT
BEGIN:VEVENT
DTSTART;TZID=Europe/Berlin:20250509T173000
DTEND;TZID=Europe/Berlin:20250509T203000
DTSTAMP:20260422T172828
CREATED:20250312T150248Z
LAST-MODIFIED:20250414T054653Z
UID:22011-1746811800-1746822600@www.sv-nehren.de
SUMMARY:Jugendvollversammlung / Grillfest
DESCRIPTION:
URL:https://www.sv-nehren.de/veranstaltung/jugendvollversammlung-grillfest/
LOCATION:Steinlach 3 72147 Nehren\, Steinlach 3 72147 Nehren\, Nehren\, 72147\, Deutschland
END:VEVENT
BEGIN:VEVENT
DTSTART;VALUE=DATE:20250503
DTEND;VALUE=DATE:20250504
DTSTAMP:20260422T172828
CREATED:20250312T150838Z
LAST-MODIFIED:20250312T150838Z
UID:22019-1746230400-1746316799@www.sv-nehren.de
SUMMARY:F- Jugend-Spieltag
DESCRIPTION:
URL:https://www.sv-nehren.de/veranstaltung/f-jugend-spieltag/
LOCATION:Steinlach 3 72147 Nehren\, Steinlach 3 72147 Nehren\, Nehren\, 72147\, Deutschland
CATEGORIES:Jugend
END:VEVENT
BEGIN:VEVENT
DTSTART;TZID=Europe/Berlin:20250314T200000
DTEND;TZID=Europe/Berlin:20250314T223000
DTSTAMP:20260422T172828
CREATED:20250312T150109Z
LAST-MODIFIED:20250312T150109Z
UID:22009-1741982400-1741991400@www.sv-nehren.de
SUMMARY:Mitgliederversammlung
DESCRIPTION:
URL:https://www.sv-nehren.de/veranstaltung/mitgliederversammlung/
LOCATION:Steinlach 3 72147 Nehren\, Steinlach 3 72147 Nehren\, Nehren\, 72147\, Deutschland
END:VEVENT
BEGIN:VEVENT
DTSTART;TZID=Europe/Berlin:20240706T093000
DTEND;TZID=Europe/Berlin:20240706T110000
DTSTAMP:20260422T172828
CREATED:20240523T092042Z
LAST-MODIFIED:20240523T092042Z
UID:21470-1720258200-1720263600@www.sv-nehren.de
SUMMARY:Eltern-Kind-Turnen
DESCRIPTION:
URL:https://www.sv-nehren.de/veranstaltung/eltern-kind-turnen-13/
LOCATION:Turnhalle Nehren\, Schulstraße\, Nehren\, Baden-Württemberg\, 72147\, Deutschland
END:VEVENT
BEGIN:VEVENT
DTSTART;TZID=Europe/Berlin:20240615T093000
DTEND;TZID=Europe/Berlin:20240615T110000
DTSTAMP:20260422T172828
CREATED:20240523T092005Z
LAST-MODIFIED:20240523T092005Z
UID:21468-1718443800-1718449200@www.sv-nehren.de
SUMMARY:Eltern-Kind-Turnen
DESCRIPTION:
URL:https://www.sv-nehren.de/veranstaltung/eltern-kind-turnen-12/
LOCATION:Turnhalle Nehren\, Schulstraße\, Nehren\, Baden-Württemberg\, 72147\, Deutschland
END:VEVENT
BEGIN:VEVENT
DTSTART;TZID=Europe/Berlin:20240504T080000
DTEND;TZID=Europe/Berlin:20240504T170000
DTSTAMP:20260422T172828
CREATED:20240425T115316Z
LAST-MODIFIED:20240425T115316Z
UID:21408-1714809600-1714842000@www.sv-nehren.de
SUMMARY:F-Jugend Staffelspieltag
DESCRIPTION:F-Jugend des SV Nehren erfolgreich in die Spieltagsrunde gestartet \n  \nDie F-Jugend des SV Nehren ist mit einem erfolgreichem  Start in die Spieltagsrunde gestartet. Mit viel Spaß und tollem Fußball überzeugten die jungen Talente auf dem Platz und sammelten wichtige Punkte für ihr Team. \n  \nAm vergangenen Wochenende zeigten die Spieler des SV Nehren\, was sie draufhaben. Mit einer Mischung aus Teamgeist\, technischem Können und Spielfreude erspielten sie sich verdiente Siege gegen ihre Gegner. Trainer und Betreuer sind stolz auf die Leistung ihrer Schützlinge und freuen sich auf viele weitere tolle Erlebnisse. \n  \nDer SV Nehren lädt alle Fußballbegeisterten herzlich zum Heimspieltag am 4. Mai auf das Sportgelände ein. Dort können die Fans die F-Jugend live in Aktion erleben und sie tatkräftig unterstützen. Für spannende Spiele\, gute Stimmung und jede Menge Spaß ist gesorgt. Kommen Sie vorbei und feuern Sie die jungen Kicker an!
URL:https://www.sv-nehren.de/veranstaltung/f-jugend-staffelspieltag/
LOCATION:Steinlach 3 72147 Nehren\, Steinlach 3 72147 Nehren\, Nehren\, 72147\, Deutschland
CATEGORIES:Fußball,Jugend
END:VEVENT
BEGIN:VEVENT
DTSTART;VALUE=DATE:20240504
DTEND;VALUE=DATE:20240505
DTSTAMP:20260422T172828
CREATED:20240208T064003Z
LAST-MODIFIED:20240208T064003Z
UID:21279-1714780800-1714867199@www.sv-nehren.de
SUMMARY:F-Jugend Staffeltag
DESCRIPTION:
URL:https://www.sv-nehren.de/veranstaltung/f-jugend-staffeltag/
LOCATION:Steinlach 3 72147 Nehren\, Steinlach 3 72147 Nehren\, Nehren\, 72147\, Deutschland
CATEGORIES:Fußball,Jugend
END:VEVENT
BEGIN:VEVENT
DTSTART;TZID=Europe/Berlin:20240424T180000
DTEND;TZID=Europe/Berlin:20240424T193000
DTSTAMP:20260422T172828
CREATED:20240207T064022Z
LAST-MODIFIED:20240325T071130Z
UID:21269-1713981600-1713987000@www.sv-nehren.de
SUMMARY:Jugendvollversammlung
DESCRIPTION:
URL:https://www.sv-nehren.de/veranstaltung/eltern-kind-turnen-10/
LOCATION:Baden-Württemberg
ATTACH;FMTTYPE=image/jpeg:https://www.sv-nehren.de/wp-content/uploads/2024/03/Einladung_JuVoV_2024.jpg
END:VEVENT
END:VCALENDAR