BEGIN:VCALENDAR
VERSION:2.0
PRODID:-//SV Nehren - ECPv6.15.17.1//NONSGML v1.0//EN
CALSCALE:GREGORIAN
METHOD:PUBLISH
X-WR-CALNAME:SV Nehren
X-ORIGINAL-URL:https://www.sv-nehren.de
X-WR-CALDESC:Veranstaltungen für SV Nehren
REFRESH-INTERVAL;VALUE=DURATION:PT1H
X-Robots-Tag:noindex
X-PUBLISHED-TTL:PT1H
BEGIN:VTIMEZONE
TZID:Europe/Berlin
BEGIN:DAYLIGHT
TZOFFSETFROM:+0100
TZOFFSETTO:+0200
TZNAME:CEST
DTSTART:20240331T010000
END:DAYLIGHT
BEGIN:STANDARD
TZOFFSETFROM:+0200
TZOFFSETTO:+0100
TZNAME:CET
DTSTART:20241027T010000
END:STANDARD
BEGIN:DAYLIGHT
TZOFFSETFROM:+0100
TZOFFSETTO:+0200
TZNAME:CEST
DTSTART:20250330T010000
END:DAYLIGHT
BEGIN:STANDARD
TZOFFSETFROM:+0200
TZOFFSETTO:+0100
TZNAME:CET
DTSTART:20251026T010000
END:STANDARD
BEGIN:DAYLIGHT
TZOFFSETFROM:+0100
TZOFFSETTO:+0200
TZNAME:CEST
DTSTART:20260329T010000
END:DAYLIGHT
BEGIN:STANDARD
TZOFFSETFROM:+0200
TZOFFSETTO:+0100
TZNAME:CET
DTSTART:20261025T010000
END:STANDARD
END:VTIMEZONE
BEGIN:VEVENT
DTSTART;TZID=Europe/Berlin:20250908T180000
DTEND;TZID=Europe/Berlin:20250908T190000
DTSTAMP:20260423T033905
CREATED:20250318T080035Z
LAST-MODIFIED:20250318T080035Z
UID:22060-1757354400-1757358000@www.sv-nehren.de
SUMMARY:Sportabzeichen Abnahme
DESCRIPTION:In diesem Jahr bieten wir wieder in Kooperation mit dem Lauftreff Gomaringen für alle Interessierten die Abnahme des Sportabzeichens im Madach-Stadion Gomaringen an.  \nMitmachen können Kinder\, Jugendliche und Erwachsene\, unabhängig von der Mitgliedschaft beim jeweiligen Verein. \nNäheres und weitere Informationen unter  www.deutsches-sportabzeichen.de. \nDie Abnahmetermine des SV Nehren sind von Mai 2025 bis September 2025 jeden zweiten \nund vierten Montag von 18.00 bis 19:00 Uhr im Madach-Stadion: \n12. und 26.  Mai  \n 09. und 23. Juni   \n14. und 28. Juli   \n11. und 25.  August   \n08. und 22. September \nZum jeweiligen Termin bitte anmelden. \nDie Abnahme der Radfahrdisziplinen erfolgt am 16.09.2025\, 17:30 Uhr für die Kurzstrecke und 18:00 Uhr für die Langstrecke. Die Örtlichkeit befindet sich \nBei RT-Gönningen\, an der Schutzhütte „Plattach“\,  \nNäheres siehe www.lauftreff-gonaringen.de/Sportabzeichen \nAnsprechpartner:  SV Nehren e.V.        \nBerth Hofschulte  Tel. 07473-379.255  \n„Mach es\, Du schaffst es\, das Sportabzeichen“
URL:https://www.sv-nehren.de/veranstaltung/sportabzeichen-abnahme-8/
LOCATION:Madach-Stadion Gomaringen\, Haydenstr.\, Gomaringen\, 72810\, Germany
CATEGORIES:Verein
END:VEVENT
BEGIN:VEVENT
DTSTART;TZID=Europe/Berlin:20250916T173000
DTEND;TZID=Europe/Berlin:20250916T180000
DTSTAMP:20260423T033905
CREATED:20250318T080511Z
LAST-MODIFIED:20250318T080602Z
UID:22064-1758043800-1758045600@www.sv-nehren.de
SUMMARY:Sportabzeichen Abnahme Fahrrad
DESCRIPTION:In diesem Jahr bieten wir wieder in Kooperation mit dem Lauftreff Gomaringen für alle Interessierten die Abnahme des Sportabzeichens im Madach-Stadion Gomaringen an.  \nMitmachen können Kinder\, Jugendliche und Erwachsene\, unabhängig von der Mitgliedschaft beim jeweiligen Verein. \nNäheres und weitere Informationen unter  www.deutsches-sportabzeichen.de. \nDie Abnahmetermine des SV Nehren sind von Mai 2025 bis September 2025 jeden zweiten \nund vierten Montag von 18.00 bis 19:00 Uhr im Madach-Stadion: \n12. und 26.  Mai  \n 09. und 23. Juni   \n14. und 28. Juli   \n11. und 25.  August   \n08. und 22. September \nZum jeweiligen Termin bitte anmelden. \nDie Abnahme der Radfahrdisziplinen erfolgt am 16.09.2025\, 17:30 Uhr für die Kurzstrecke und 18:00 Uhr für die Langstrecke. Die Örtlichkeit befindet sich \nBei RT-Gönningen\, an der Schutzhütte „Plattach“\,  \nNäheres siehe www.lauftreff-gomaringen.de/Sportabzeichen \nAnsprechpartner:  SV Nehren e.V.        \nBerth Hofschulte  Tel. 07473-379.255  \n„Mach es\, Du schaffst es\, das Sportabzeichen“
URL:https://www.sv-nehren.de/veranstaltung/sportabzeichen-abnahme-fahrrad/
LOCATION:Schutzhütte\, RT-Gönningen
CATEGORIES:Verein
END:VEVENT
BEGIN:VEVENT
DTSTART;TZID=Europe/Berlin:20250922T180000
DTEND;TZID=Europe/Berlin:20250922T190000
DTSTAMP:20260423T033905
CREATED:20250318T080140Z
LAST-MODIFIED:20250318T080638Z
UID:22062-1758564000-1758567600@www.sv-nehren.de
SUMMARY:Sportzeichen Abnahme
DESCRIPTION:In diesem Jahr bieten wir wieder in Kooperation mit dem Lauftreff Gomaringen für alle Interessierten die Abnahme des Sportabzeichens im Madach-Stadion Gomaringen an.  \nMitmachen können Kinder\, Jugendliche und Erwachsene\, unabhängig von der Mitgliedschaft beim jeweiligen Verein. \nNäheres und weitere Informationen unter  www.deutsches-sportabzeichen.de. \nDie Abnahmetermine des SV Nehren sind von Mai 2025 bis September 2025 jeden zweiten \nund vierten Montag von 18.00 bis 19:00 Uhr im Madach-Stadion: \n12. und 26.  Mai  \n 09. und 23. Juni   \n14. und 28. Juli   \n11. und 25.  August   \n08. und 22. September \nZum jeweiligen Termin bitte anmelden. \nDie Abnahme der Radfahrdisziplinen erfolgt am 16.09.2025\, 17:30 Uhr für die Kurzstrecke und 18:00 Uhr für die Langstrecke. Die Örtlichkeit befindet sich \nBei RT-Gönningen\, an der Schutzhütte „Plattach“\,  \nNäheres siehe www.lauftreff-gomaringen.de/Sportabzeichen \nAnsprechpartner:  SV Nehren e.V.        \nBerth Hofschulte  Tel. 07473-379.255  \n„Mach es\, Du schaffst es\, das Sportabzeichen“
URL:https://www.sv-nehren.de/veranstaltung/sportzeichen-abnahme/
LOCATION:Madach-Stadion Gomaringen\, Haydenstr.\, Gomaringen\, 72810\, Germany
CATEGORIES:Verein
END:VEVENT
END:VCALENDAR